BEGIN:VCALENDAR
VERSION:2.0
PRODID:-//Lone Pine Brewing Company - ECPv6.3.7//NONSGML v1.0//EN
CALSCALE:GREGORIAN
METHOD:PUBLISH
X-WR-CALNAME:Lone Pine Brewing Company
X-ORIGINAL-URL:https://lonepinebrewery.com
X-WR-CALDESC:Events for Lone Pine Brewing Company
REFRESH-INTERVAL;VALUE=DURATION:PT1H
X-Robots-Tag:noindex
X-PUBLISHED-TTL:PT1H
BEGIN:VTIMEZONE
TZID:America/New_York
BEGIN:DAYLIGHT
TZOFFSETFROM:-0500
TZOFFSETTO:-0400
TZNAME:EDT
DTSTART:20220313T070000
END:DAYLIGHT
BEGIN:STANDARD
TZOFFSETFROM:-0400
TZOFFSETTO:-0500
TZNAME:EST
DTSTART:20221106T060000
END:STANDARD
END:VTIMEZONE
BEGIN:VEVENT
DTSTART;TZID=America/New_York:20220825T150000
DTEND;TZID=America/New_York:20220825T180000
DTSTAMP:20260424T151404
CREATED:20220823T125958Z
LAST-MODIFIED:20220823T133813Z
UID:10741-1661439600-1661450400@lonepinebrewery.com
SUMMARY:Pumpkin Party Tasting @ Island Lobster Company
DESCRIPTION:
URL:https://lonepinebrewery.com/events/pumpkin-party-tasting-island-lobster-company/
LOCATION:Island Lobster Company\, 20 Island Ave.\, Portland\, ME\, 04108\, United States
CATEGORIES:Beer Tasting
ATTACH;FMTTYPE=image/jpeg:https://lonepinebrewery.com/wp-content/uploads/2022/08/LP-Events-PumpkinParty-IslandLobsterCo-1.jpg
END:VEVENT
BEGIN:VEVENT
DTSTART;TZID=America/New_York:20220825T160000
DTEND;TZID=America/New_York:20220825T180000
DTSTAMP:20260424T151404
CREATED:20220823T130909Z
LAST-MODIFIED:20220823T130909Z
UID:10749-1661443200-1661450400@lonepinebrewery.com
SUMMARY:Pumpkin Party Tasting @ Rooper's Beverage
DESCRIPTION:
URL:https://lonepinebrewery.com/events/pumpkin-party-tasting-roopers-beverage/
LOCATION:Rooper’s Beverage: Lewiston Main Street\, 686 Main St.\, Lewiston\, ME\, 04240\, United States
CATEGORIES:Beer Tasting
ATTACH;FMTTYPE=image/jpeg:https://lonepinebrewery.com/wp-content/uploads/2022/08/LP-Events-PumpkinParty-Roopers-1.jpg
END:VEVENT
BEGIN:VEVENT
DTSTART;TZID=America/New_York:20220825T170000
DTEND;TZID=America/New_York:20220825T190000
DTSTAMP:20260424T151404
CREATED:20220823T132127Z
LAST-MODIFIED:20220823T132127Z
UID:10771-1661446800-1661454000@lonepinebrewery.com
SUMMARY:Pint Night @ Buffalo Wild Wings: Topsham
DESCRIPTION:
URL:https://lonepinebrewery.com/events/pint-night-buffalo-wild-wings-topsham/
LOCATION:Buffalo Wild Wings: Topsham\, 105 Topsham Fair Mall Rd.\, Topsham\, ME\, 04086\, United States
CATEGORIES:Beer Tasting
ATTACH;FMTTYPE=image/jpeg:https://lonepinebrewery.com/wp-content/uploads/2022/07/BWW-1.jpg
END:VEVENT
END:VCALENDAR