BEGIN:VCALENDAR
VERSION:2.0
PRODID:-//Lone Pine Brewing Company - ECPv6.3.7//NONSGML v1.0//EN
CALSCALE:GREGORIAN
METHOD:PUBLISH
X-WR-CALNAME:Lone Pine Brewing Company
X-ORIGINAL-URL:https://lonepinebrewery.com
X-WR-CALDESC:Events for Lone Pine Brewing Company
REFRESH-INTERVAL;VALUE=DURATION:PT1H
X-Robots-Tag:noindex
X-PUBLISHED-TTL:PT1H
BEGIN:VTIMEZONE
TZID:America/New_York
BEGIN:DAYLIGHT
TZOFFSETFROM:-0500
TZOFFSETTO:-0400
TZNAME:EDT
DTSTART:20230312T070000
END:DAYLIGHT
BEGIN:STANDARD
TZOFFSETFROM:-0400
TZOFFSETTO:-0500
TZNAME:EST
DTSTART:20231105T060000
END:STANDARD
END:VTIMEZONE
BEGIN:VEVENT
DTSTART;TZID=America/New_York:20230127T160000
DTEND;TZID=America/New_York:20230127T180000
DTSTAMP:20260423T223405
CREATED:20230124T131748Z
LAST-MODIFIED:20230124T131955Z
UID:13155-1674835200-1674842400@lonepinebrewery.com
SUMMARY:Tasting @ Damon's Beverage (Bangor)
DESCRIPTION:Featuring Allen’s Coffee Breakfast Stout + Variety Pack (Portland Pale Ale\, Brightside IPA\, Oh-J\, and Tessellation)
URL:https://lonepinebrewery.com/events/tasting-damons-beverage-bangor/
LOCATION:Damon’s Beverage: Bangor\, 700 Hogan Rd.\, Bangor\, ME\, 0400440138\, United States
CATEGORIES:Beer Tasting,Maine
ATTACH;FMTTYPE=image/jpeg:https://lonepinebrewery.com/wp-content/uploads/2023/01/2023-Events_0005_DamonsBangor.jpg
END:VEVENT
END:VCALENDAR