BEGIN:VCALENDAR
VERSION:2.0
PRODID:-//Lone Pine Brewing Company - ECPv6.3.7//NONSGML v1.0//EN
CALSCALE:GREGORIAN
METHOD:PUBLISH
X-ORIGINAL-URL:https://lonepinebrewery.com
X-WR-CALDESC:Events for Lone Pine Brewing Company
REFRESH-INTERVAL;VALUE=DURATION:PT1H
X-Robots-Tag:noindex
X-PUBLISHED-TTL:PT1H
BEGIN:VTIMEZONE
TZID:America/New_York
BEGIN:DAYLIGHT
TZOFFSETFROM:-0500
TZOFFSETTO:-0400
TZNAME:EDT
DTSTART:20230312T070000
END:DAYLIGHT
BEGIN:STANDARD
TZOFFSETFROM:-0400
TZOFFSETTO:-0500
TZNAME:EST
DTSTART:20231105T060000
END:STANDARD
END:VTIMEZONE
BEGIN:VEVENT
DTSTART;TZID=America/New_York:20230323T160000
DTEND;TZID=America/New_York:20230323T180000
DTSTAMP:20260423T174458
CREATED:20230319T185029Z
LAST-MODIFIED:20230319T185217Z
UID:15568-1679587200-1679594400@lonepinebrewery.com
SUMMARY:Tasting @ Boston Wine Exchange
DESCRIPTION:
URL:https://lonepinebrewery.com/events/tasting-boston-wine-exchange-2/
LOCATION:Boston Wine Exchange\, 181 Devonshire St.\, Boston\, MA\, 02110\, United States
CATEGORIES:Beer Tasting,Massachusetts
ATTACH;FMTTYPE=image/jpeg:https://lonepinebrewery.com/wp-content/uploads/2023/01/2023-Events_0006_BostonWineExchange.jpg
END:VEVENT
END:VCALENDAR