BEGIN:VCALENDAR
VERSION:2.0
PRODID:-//Lone Pine Brewing Company - ECPv6.3.7//NONSGML v1.0//EN
CALSCALE:GREGORIAN
METHOD:PUBLISH
X-WR-CALNAME:Lone Pine Brewing Company
X-ORIGINAL-URL:https://lonepinebrewery.com
X-WR-CALDESC:Events for Lone Pine Brewing Company
REFRESH-INTERVAL;VALUE=DURATION:PT1H
X-Robots-Tag:noindex
X-PUBLISHED-TTL:PT1H
BEGIN:VTIMEZONE
TZID:America/New_York
BEGIN:DAYLIGHT
TZOFFSETFROM:-0500
TZOFFSETTO:-0400
TZNAME:EDT
DTSTART:20230312T070000
END:DAYLIGHT
BEGIN:STANDARD
TZOFFSETFROM:-0400
TZOFFSETTO:-0500
TZNAME:EST
DTSTART:20231105T060000
END:STANDARD
END:VTIMEZONE
BEGIN:VEVENT
DTSTART;TZID=America/New_York:20230523T180000
DTEND;TZID=America/New_York:20230523T210000
DTSTAMP:20260423T130531
CREATED:20230521T051313Z
LAST-MODIFIED:20230523T172341Z
UID:15955-1684864800-1684875600@lonepinebrewery.com
SUMMARY:Maine Event Cornhole
DESCRIPTION:Maine Event Cornhole hosts MEC @ Lone Pine outdoors at the Lone Pine Beer Garden in Old Orchard Beach. \nBlind draw\, double elimination tournament for 40 entrants. $10 entry fee\, cash payouts. Advanced entry is encouraged. Full details on the www.scoreholio.com app.
URL:https://lonepinebrewery.com/events/maine-event-cornhole/
LOCATION:Lone Pine Brewing Beer Garden: Old Orchard Beach\, 32 East Grand Ave\, Old Orchard Beach\, ME\, 04064\, United States
END:VEVENT
END:VCALENDAR