BEGIN:VCALENDAR
VERSION:2.0
PRODID:-//Lone Pine Brewing Company - ECPv6.3.7//NONSGML v1.0//EN
CALSCALE:GREGORIAN
METHOD:PUBLISH
X-WR-CALNAME:Lone Pine Brewing Company
X-ORIGINAL-URL:https://lonepinebrewery.com
X-WR-CALDESC:Events for Lone Pine Brewing Company
REFRESH-INTERVAL;VALUE=DURATION:PT1H
X-Robots-Tag:noindex
X-PUBLISHED-TTL:PT1H
BEGIN:VTIMEZONE
TZID:America/New_York
BEGIN:DAYLIGHT
TZOFFSETFROM:-0500
TZOFFSETTO:-0400
TZNAME:EDT
DTSTART:20230312T070000
END:DAYLIGHT
BEGIN:STANDARD
TZOFFSETFROM:-0400
TZOFFSETTO:-0500
TZNAME:EST
DTSTART:20231105T060000
END:STANDARD
END:VTIMEZONE
BEGIN:VEVENT
DTSTART;TZID=America/New_York:20230612T170000
DTEND;TZID=America/New_York:20230612T190000
DTSTAMP:20260423T152956
CREATED:20230612T175411Z
LAST-MODIFIED:20230612T175411Z
UID:15981-1686589200-1686596400@lonepinebrewery.com
SUMMARY:Lone Pine Pint Night at Pat's Pizza Dover-Foxcroft
DESCRIPTION:Lone Pine Pint night at Pat’s Pizza in Dover-Foxcroft.
URL:https://lonepinebrewery.com/events/lone-pine-pint-night-at-pats-pizza-dover-foxcroft/
LOCATION:Pat’s Pizza Dover Foxcroft\, 100 E Main St.\, Dover-Foxcroft\, ME\, 04426\, United States
CATEGORIES:Tap Takeover
END:VEVENT
END:VCALENDAR