BEGIN:VCALENDAR
VERSION:2.0
PRODID:-//Lone Pine Brewing Company - ECPv6.3.7//NONSGML v1.0//EN
CALSCALE:GREGORIAN
METHOD:PUBLISH
X-ORIGINAL-URL:https://lonepinebrewery.com
X-WR-CALDESC:Events for Lone Pine Brewing Company
REFRESH-INTERVAL;VALUE=DURATION:PT1H
X-Robots-Tag:noindex
X-PUBLISHED-TTL:PT1H
BEGIN:VTIMEZONE
TZID:America/New_York
BEGIN:DAYLIGHT
TZOFFSETFROM:-0500
TZOFFSETTO:-0400
TZNAME:EDT
DTSTART:20230312T070000
END:DAYLIGHT
BEGIN:STANDARD
TZOFFSETFROM:-0400
TZOFFSETTO:-0500
TZNAME:EST
DTSTART:20231105T060000
END:STANDARD
END:VTIMEZONE
BEGIN:VEVENT
DTSTART;TZID=America/New_York:20231209T120000
DTEND;TZID=America/New_York:20231209T200000
DTSTAMP:20260423T062448
CREATED:20231204T190411Z
LAST-MODIFIED:20231204T192927Z
UID:16526-1702123200-1702152000@lonepinebrewery.com
SUMMARY:Beef & Brews With Pineland Farms
DESCRIPTION:Join us Saturday\, December 9th as we welcome Pineland Farms for an afternoon of great food and beverage as we collaborate on some delicious one-day only foods crafted fresh with ingredients from Pineland Farms and a custom Double Dry Hopped Double IPA beer made to be paired with the menu.\n\nMusic runs from 1:00-8:00pm (with an intermission)\n\n12OC Duo from 1:00-3:00pm\nMichael Corleto from 5:00-8:00pm\n\n\nIce Sculpting from 1:00-4:00pm\nHoliday Makers Market from 5:00-8:00pm\nDisc Golf Competition from 3:00-5:00pm with Pineland Farms prizes up for grabs\nRaffle featuring Lone Pine gift cards and Pineland Farms products\n\nEnjoy the heated tent\, festive winter decorations\, fire pits and cozy outdoor beer garden. Cheers!
URL:https://lonepinebrewery.com/events/beef-brews-with-pineland-farms/
LOCATION:Lone Pine Beer Garden: Rock Row Westbrook\, 87 Rock Row\, Westbrook\, ME\, 04092\, United States
CATEGORIES:Beer Tasting
ATTACH;FMTTYPE=image/jpeg:https://lonepinebrewery.com/wp-content/uploads/2023/12/BeefAndBrewsEventBanner.jpg
END:VEVENT
END:VCALENDAR