BEGIN:VCALENDAR
VERSION:2.0
PRODID:-//Lone Pine Brewing Company - ECPv6.3.7//NONSGML v1.0//EN
CALSCALE:GREGORIAN
METHOD:PUBLISH
X-WR-CALNAME:Lone Pine Brewing Company
X-ORIGINAL-URL:https://lonepinebrewery.com
X-WR-CALDESC:Events for Lone Pine Brewing Company
REFRESH-INTERVAL;VALUE=DURATION:PT1H
X-Robots-Tag:noindex
X-PUBLISHED-TTL:PT1H
BEGIN:VTIMEZONE
TZID:America/New_York
BEGIN:DAYLIGHT
TZOFFSETFROM:-0500
TZOFFSETTO:-0400
TZNAME:EDT
DTSTART:20220313T070000
END:DAYLIGHT
BEGIN:STANDARD
TZOFFSETFROM:-0400
TZOFFSETTO:-0500
TZNAME:EST
DTSTART:20221106T060000
END:STANDARD
END:VTIMEZONE
BEGIN:VEVENT
DTSTART;TZID=America/New_York:20221203T150000
DTEND;TZID=America/New_York:20221203T210000
DTSTAMP:20260424T180108
CREATED:20221121T164725Z
LAST-MODIFIED:20221121T171715Z
UID:12441-1670079600-1670101200@lonepinebrewery.com
SUMMARY:Christmas Prelude Tap Takeover @ The Boathouse Restaurant
DESCRIPTION:3-6pm: Music from Beau Dalleo \n5-9pm: Lone Pine Tap Takeover! Expect a variety of beer tastings\, with an exclusive winter beer\, and giveaways. \n6-9pm: Spins from DJ Andel \nBook you Rooftop Private Parties
URL:https://lonepinebrewery.com/events/christmas-prelude-tap-takeover-the-boathouse-restaurant/
LOCATION:The Boathouse Hotel & Restaurant\, 21 Ocean Ave\, Kennebunkport\, ME\, 04046\, United States
CATEGORIES:Beer Festival,Beer Tasting,Kennebunkport,Maine
ATTACH;FMTTYPE=image/jpeg:https://lonepinebrewery.com/wp-content/uploads/2022/11/LP-Events-ChristmasPrelude-Boathouse-2.jpg
END:VEVENT
END:VCALENDAR