BEGIN:VCALENDAR
VERSION:2.0
PRODID:-//Lone Pine Brewing Company - ECPv6.3.7//NONSGML v1.0//EN
CALSCALE:GREGORIAN
METHOD:PUBLISH
X-WR-CALNAME:Lone Pine Brewing Company
X-ORIGINAL-URL:https://lonepinebrewery.com
X-WR-CALDESC:Events for Lone Pine Brewing Company
REFRESH-INTERVAL;VALUE=DURATION:PT1H
X-Robots-Tag:noindex
X-PUBLISHED-TTL:PT1H
BEGIN:VTIMEZONE
TZID:America/New_York
BEGIN:DAYLIGHT
TZOFFSETFROM:-0500
TZOFFSETTO:-0400
TZNAME:EDT
DTSTART:20230312T070000
END:DAYLIGHT
BEGIN:STANDARD
TZOFFSETFROM:-0400
TZOFFSETTO:-0500
TZNAME:EST
DTSTART:20231105T060000
END:STANDARD
END:VTIMEZONE
BEGIN:VEVENT
DTSTART;TZID=America/New_York:20230209T180000
DTEND;TZID=America/New_York:20230209T193000
DTSTAMP:20260424T131005
CREATED:20230123T221218Z
LAST-MODIFIED:20230130T163156Z
UID:13139-1675965600-1675971000@lonepinebrewery.com
SUMMARY:Tastes of Maine Beer Dinner @ The Boathouse
DESCRIPTION:Maine is known for it’s dramatic coastline\, fresh seafood\, and it’s numerous breweries. Come celebrate Maine’s best by having dinner at The Boathouse Waterfront Restaurant. We’ll be pairing brews from Lone Pine Brewing with classic Maine cuisine\, showcasing what makes Maine a great state for foodies and beer geeks alike.
URL:https://lonepinebrewery.com/events/tastes-of-maine-the-boathouse-kennebunk/
LOCATION:The Boathouse Hotel & Restaurant\, 21 Ocean Ave\, Kennebunkport\, ME\, 04046\, United States
CATEGORIES:Beer Dinner,Kennebunkport,Maine
ATTACH;FMTTYPE=image/jpeg:https://lonepinebrewery.com/wp-content/uploads/2023/01/2023-Events_0005_Boathouse.jpg
END:VEVENT
END:VCALENDAR