BEGIN:VCALENDAR
VERSION:2.0
PRODID:-//Lone Pine Brewing Company - ECPv6.3.7//NONSGML v1.0//EN
CALSCALE:GREGORIAN
METHOD:PUBLISH
X-WR-CALNAME:Lone Pine Brewing Company
X-ORIGINAL-URL:https://lonepinebrewery.com
X-WR-CALDESC:Events for Lone Pine Brewing Company
REFRESH-INTERVAL;VALUE=DURATION:PT1H
X-Robots-Tag:noindex
X-PUBLISHED-TTL:PT1H
BEGIN:VTIMEZONE
TZID:America/New_York
BEGIN:DAYLIGHT
TZOFFSETFROM:-0500
TZOFFSETTO:-0400
TZNAME:EDT
DTSTART:20230312T070000
END:DAYLIGHT
BEGIN:STANDARD
TZOFFSETFROM:-0400
TZOFFSETTO:-0500
TZNAME:EST
DTSTART:20231105T060000
END:STANDARD
END:VTIMEZONE
BEGIN:VEVENT
DTSTART;TZID=America/New_York:20231221T120000
DTEND;TZID=America/New_York:20231221T200000
DTSTAMP:20260423T132151
CREATED:20231215T051034Z
LAST-MODIFIED:20231215T051034Z
UID:16574-1703160000-1703188800@lonepinebrewery.com
SUMMARY:Flights and Flannel
DESCRIPTION:Lone Pine Brewing Co. and The Vermont Flannel Co. are teaming up to help you survive the New England winter with blissful brews\, comfort food\, and the coziest flannels on earth. \nThrough March 2024\, stop by Lone Pine Brewing in Portland on Thursdays\, and Old Orchard Beach on Fridays\, to enjoy special $14 Lone Pine flights! Guests will have the opportunity to shop Lone Pine x Vermont Flannel collab merchandise\, gain access to an exclusive coupon for Vermont Flannel stores\, and sign up for a $100 Gift Card to Vermont Flannel and Lone Pine Brewing. \nKeep it tasty & toasty this winter with Flights & Flannel. See you soon!
URL:https://lonepinebrewery.com/events/flights-and-flannel/
LOCATION:Lone Pine Brewing Tasting Room: Portland\, 219 Anderson St.\, Portland\, ME\, 04101\, United States
CATEGORIES:Beer Tasting,Portland
ATTACH;FMTTYPE=image/jpeg:https://lonepinebrewery.com/wp-content/uploads/2023/12/Flights-and-Flannels-Poster.jpg
END:VEVENT
BEGIN:VEVENT
DTSTART;TZID=America/New_York:20231215T120000
DTEND;TZID=America/New_York:20231215T200000
DTSTAMP:20260423T132151
CREATED:20231215T051508Z
LAST-MODIFIED:20231215T051630Z
UID:16579-1702641600-1702670400@lonepinebrewery.com
SUMMARY:Flights and Flannel
DESCRIPTION:Lone Pine Brewing Co. and The Vermont Flannel Co. are teaming up to help you survive the New England winter with blissful brews\, comfort food\, and the coziest flannels on earth. \nThrough March 2024\, stop by Lone Pine Brewing in Portland on Thursdays\, and Old Orchard Beach on Fridays\, to enjoy special $14 Lone Pine flights! Guests will have the opportunity to shop Lone Pine x Vermont Flannel collab merchandise\, gain access to an exclusive coupon for Vermont Flannel stores\, and sign up for a $100 Gift Card to Vermont Flannel and Lone Pine Brewing. \nKeep it tasty & toasty this winter with Flights & Flannel. See you soon!
URL:https://lonepinebrewery.com/events/flights-and-flannel-2/
LOCATION:Lone Pine Brewing Beer Garden: Old Orchard Beach\, 32 East Grand Ave\, Old Orchard Beach\, ME\, 04064\, United States
CATEGORIES:Beer Tasting,Old Orchard Beach
ATTACH;FMTTYPE=image/jpeg:https://lonepinebrewery.com/wp-content/uploads/2023/12/Flights-and-Flannels-Poster.jpg
END:VEVENT
BEGIN:VEVENT
DTSTART;TZID=America/New_York:20231221T120000
DTEND;TZID=America/New_York:20231221T200000
DTSTAMP:20260423T132151
CREATED:20231215T051034Z
LAST-MODIFIED:20231215T051034Z
UID:16574-1703160000-1703188800@lonepinebrewery.com
SUMMARY:Flights and Flannel
DESCRIPTION:Lone Pine Brewing Co. and The Vermont Flannel Co. are teaming up to help you survive the New England winter with blissful brews\, comfort food\, and the coziest flannels on earth. \nThrough March 2024\, stop by Lone Pine Brewing in Portland on Thursdays\, and Old Orchard Beach on Fridays\, to enjoy special $14 Lone Pine flights! Guests will have the opportunity to shop Lone Pine x Vermont Flannel collab merchandise\, gain access to an exclusive coupon for Vermont Flannel stores\, and sign up for a $100 Gift Card to Vermont Flannel and Lone Pine Brewing. \nKeep it tasty & toasty this winter with Flights & Flannel. See you soon!
URL:https://lonepinebrewery.com/events/flights-and-flannel/
LOCATION:Lone Pine Brewing Tasting Room: Portland\, 219 Anderson St.\, Portland\, ME\, 04101\, United States
CATEGORIES:Beer Tasting,Portland
ATTACH;FMTTYPE=image/jpeg:https://lonepinebrewery.com/wp-content/uploads/2023/12/Flights-and-Flannels-Poster.jpg
END:VEVENT
BEGIN:VEVENT
DTSTART;TZID=America/New_York:20231215T120000
DTEND;TZID=America/New_York:20231215T200000
DTSTAMP:20260423T132151
CREATED:20231215T051508Z
LAST-MODIFIED:20231215T051630Z
UID:16579-1702641600-1702670400@lonepinebrewery.com
SUMMARY:Flights and Flannel
DESCRIPTION:Lone Pine Brewing Co. and The Vermont Flannel Co. are teaming up to help you survive the New England winter with blissful brews\, comfort food\, and the coziest flannels on earth. \nThrough March 2024\, stop by Lone Pine Brewing in Portland on Thursdays\, and Old Orchard Beach on Fridays\, to enjoy special $14 Lone Pine flights! Guests will have the opportunity to shop Lone Pine x Vermont Flannel collab merchandise\, gain access to an exclusive coupon for Vermont Flannel stores\, and sign up for a $100 Gift Card to Vermont Flannel and Lone Pine Brewing. \nKeep it tasty & toasty this winter with Flights & Flannel. See you soon!
URL:https://lonepinebrewery.com/events/flights-and-flannel-2/
LOCATION:Lone Pine Brewing Beer Garden: Old Orchard Beach\, 32 East Grand Ave\, Old Orchard Beach\, ME\, 04064\, United States
CATEGORIES:Beer Tasting,Old Orchard Beach
ATTACH;FMTTYPE=image/jpeg:https://lonepinebrewery.com/wp-content/uploads/2023/12/Flights-and-Flannels-Poster.jpg
END:VEVENT
BEGIN:VEVENT
DTSTART;TZID=America/New_York:20231221T120000
DTEND;TZID=America/New_York:20231221T200000
DTSTAMP:20260423T132151
CREATED:20231215T051034Z
LAST-MODIFIED:20231215T051034Z
UID:16574-1703160000-1703188800@lonepinebrewery.com
SUMMARY:Flights and Flannel
DESCRIPTION:Lone Pine Brewing Co. and The Vermont Flannel Co. are teaming up to help you survive the New England winter with blissful brews\, comfort food\, and the coziest flannels on earth. \nThrough March 2024\, stop by Lone Pine Brewing in Portland on Thursdays\, and Old Orchard Beach on Fridays\, to enjoy special $14 Lone Pine flights! Guests will have the opportunity to shop Lone Pine x Vermont Flannel collab merchandise\, gain access to an exclusive coupon for Vermont Flannel stores\, and sign up for a $100 Gift Card to Vermont Flannel and Lone Pine Brewing. \nKeep it tasty & toasty this winter with Flights & Flannel. See you soon!
URL:https://lonepinebrewery.com/events/flights-and-flannel/
LOCATION:Lone Pine Brewing Tasting Room: Portland\, 219 Anderson St.\, Portland\, ME\, 04101\, United States
CATEGORIES:Beer Tasting,Portland
ATTACH;FMTTYPE=image/jpeg:https://lonepinebrewery.com/wp-content/uploads/2023/12/Flights-and-Flannels-Poster.jpg
END:VEVENT
BEGIN:VEVENT
DTSTART;TZID=America/New_York:20231215T120000
DTEND;TZID=America/New_York:20231215T200000
DTSTAMP:20260423T132151
CREATED:20231215T051508Z
LAST-MODIFIED:20231215T051630Z
UID:16579-1702641600-1702670400@lonepinebrewery.com
SUMMARY:Flights and Flannel
DESCRIPTION:Lone Pine Brewing Co. and The Vermont Flannel Co. are teaming up to help you survive the New England winter with blissful brews\, comfort food\, and the coziest flannels on earth. \nThrough March 2024\, stop by Lone Pine Brewing in Portland on Thursdays\, and Old Orchard Beach on Fridays\, to enjoy special $14 Lone Pine flights! Guests will have the opportunity to shop Lone Pine x Vermont Flannel collab merchandise\, gain access to an exclusive coupon for Vermont Flannel stores\, and sign up for a $100 Gift Card to Vermont Flannel and Lone Pine Brewing. \nKeep it tasty & toasty this winter with Flights & Flannel. See you soon!
URL:https://lonepinebrewery.com/events/flights-and-flannel-2/
LOCATION:Lone Pine Brewing Beer Garden: Old Orchard Beach\, 32 East Grand Ave\, Old Orchard Beach\, ME\, 04064\, United States
CATEGORIES:Beer Tasting,Old Orchard Beach
ATTACH;FMTTYPE=image/jpeg:https://lonepinebrewery.com/wp-content/uploads/2023/12/Flights-and-Flannels-Poster.jpg
END:VEVENT
BEGIN:VEVENT
DTSTART;TZID=America/New_York:20231221T120000
DTEND;TZID=America/New_York:20231221T200000
DTSTAMP:20260423T132151
CREATED:20231215T051034Z
LAST-MODIFIED:20231215T051034Z
UID:16574-1703160000-1703188800@lonepinebrewery.com
SUMMARY:Flights and Flannel
DESCRIPTION:Lone Pine Brewing Co. and The Vermont Flannel Co. are teaming up to help you survive the New England winter with blissful brews\, comfort food\, and the coziest flannels on earth. \nThrough March 2024\, stop by Lone Pine Brewing in Portland on Thursdays\, and Old Orchard Beach on Fridays\, to enjoy special $14 Lone Pine flights! Guests will have the opportunity to shop Lone Pine x Vermont Flannel collab merchandise\, gain access to an exclusive coupon for Vermont Flannel stores\, and sign up for a $100 Gift Card to Vermont Flannel and Lone Pine Brewing. \nKeep it tasty & toasty this winter with Flights & Flannel. See you soon!
URL:https://lonepinebrewery.com/events/flights-and-flannel/
LOCATION:Lone Pine Brewing Tasting Room: Portland\, 219 Anderson St.\, Portland\, ME\, 04101\, United States
CATEGORIES:Beer Tasting,Portland
ATTACH;FMTTYPE=image/jpeg:https://lonepinebrewery.com/wp-content/uploads/2023/12/Flights-and-Flannels-Poster.jpg
END:VEVENT
BEGIN:VEVENT
DTSTART;TZID=America/New_York:20231215T120000
DTEND;TZID=America/New_York:20231215T200000
DTSTAMP:20260423T132151
CREATED:20231215T051508Z
LAST-MODIFIED:20231215T051630Z
UID:16579-1702641600-1702670400@lonepinebrewery.com
SUMMARY:Flights and Flannel
DESCRIPTION:Lone Pine Brewing Co. and The Vermont Flannel Co. are teaming up to help you survive the New England winter with blissful brews\, comfort food\, and the coziest flannels on earth. \nThrough March 2024\, stop by Lone Pine Brewing in Portland on Thursdays\, and Old Orchard Beach on Fridays\, to enjoy special $14 Lone Pine flights! Guests will have the opportunity to shop Lone Pine x Vermont Flannel collab merchandise\, gain access to an exclusive coupon for Vermont Flannel stores\, and sign up for a $100 Gift Card to Vermont Flannel and Lone Pine Brewing. \nKeep it tasty & toasty this winter with Flights & Flannel. See you soon!
URL:https://lonepinebrewery.com/events/flights-and-flannel-2/
LOCATION:Lone Pine Brewing Beer Garden: Old Orchard Beach\, 32 East Grand Ave\, Old Orchard Beach\, ME\, 04064\, United States
CATEGORIES:Beer Tasting,Old Orchard Beach
ATTACH;FMTTYPE=image/jpeg:https://lonepinebrewery.com/wp-content/uploads/2023/12/Flights-and-Flannels-Poster.jpg
END:VEVENT
BEGIN:VEVENT
DTSTART;TZID=America/New_York:20231221T120000
DTEND;TZID=America/New_York:20231221T200000
DTSTAMP:20260423T132151
CREATED:20231215T051034Z
LAST-MODIFIED:20231215T051034Z
UID:16574-1703160000-1703188800@lonepinebrewery.com
SUMMARY:Flights and Flannel
DESCRIPTION:Lone Pine Brewing Co. and The Vermont Flannel Co. are teaming up to help you survive the New England winter with blissful brews\, comfort food\, and the coziest flannels on earth. \nThrough March 2024\, stop by Lone Pine Brewing in Portland on Thursdays\, and Old Orchard Beach on Fridays\, to enjoy special $14 Lone Pine flights! Guests will have the opportunity to shop Lone Pine x Vermont Flannel collab merchandise\, gain access to an exclusive coupon for Vermont Flannel stores\, and sign up for a $100 Gift Card to Vermont Flannel and Lone Pine Brewing. \nKeep it tasty & toasty this winter with Flights & Flannel. See you soon!
URL:https://lonepinebrewery.com/events/flights-and-flannel/
LOCATION:Lone Pine Brewing Tasting Room: Portland\, 219 Anderson St.\, Portland\, ME\, 04101\, United States
CATEGORIES:Beer Tasting,Portland
ATTACH;FMTTYPE=image/jpeg:https://lonepinebrewery.com/wp-content/uploads/2023/12/Flights-and-Flannels-Poster.jpg
END:VEVENT
BEGIN:VEVENT
DTSTART;TZID=America/New_York:20231216T120000
DTEND;TZID=America/New_York:20231216T210000
DTSTAMP:20260423T132151
CREATED:20231213T193609Z
LAST-MODIFIED:20231213T193609Z
UID:16570-1702728000-1702760400@lonepinebrewery.com
SUMMARY:Ugly Sweater Party
DESCRIPTION:Join us on Saturday\, December 16th from noon to 9pm as we get into the winter mood with an ugly sweater celebration. Don your favorite ugly\, scratchy sweater and bring along a pantry food item for a chance to win one of two Lone Pine Brewing gift cards\, each valued at $50. Draft and 4 pack deals on our winter beers and festive\, fun activities. Anderson Street only. Cheers!
URL:https://lonepinebrewery.com/events/ugly-sweater-party/
LOCATION:Lone Pine Brewing Tasting Room: Portland\, 219 Anderson St.\, Portland\, ME\, 04101\, United States
CATEGORIES:Portland
ATTACH;FMTTYPE=application/pdf:https://lonepinebrewery.com/wp-content/uploads/2023/12/UglySweater2.pdf
END:VEVENT
BEGIN:VEVENT
DTSTART;TZID=America/New_York:20231215T120000
DTEND;TZID=America/New_York:20231215T200000
DTSTAMP:20260423T132151
CREATED:20231215T051508Z
LAST-MODIFIED:20231215T051630Z
UID:16579-1702641600-1702670400@lonepinebrewery.com
SUMMARY:Flights and Flannel
DESCRIPTION:Lone Pine Brewing Co. and The Vermont Flannel Co. are teaming up to help you survive the New England winter with blissful brews\, comfort food\, and the coziest flannels on earth. \nThrough March 2024\, stop by Lone Pine Brewing in Portland on Thursdays\, and Old Orchard Beach on Fridays\, to enjoy special $14 Lone Pine flights! Guests will have the opportunity to shop Lone Pine x Vermont Flannel collab merchandise\, gain access to an exclusive coupon for Vermont Flannel stores\, and sign up for a $100 Gift Card to Vermont Flannel and Lone Pine Brewing. \nKeep it tasty & toasty this winter with Flights & Flannel. See you soon!
URL:https://lonepinebrewery.com/events/flights-and-flannel-2/
LOCATION:Lone Pine Brewing Beer Garden: Old Orchard Beach\, 32 East Grand Ave\, Old Orchard Beach\, ME\, 04064\, United States
CATEGORIES:Beer Tasting,Old Orchard Beach
ATTACH;FMTTYPE=image/jpeg:https://lonepinebrewery.com/wp-content/uploads/2023/12/Flights-and-Flannels-Poster.jpg
END:VEVENT
BEGIN:VEVENT
DTSTART;TZID=America/New_York:20231007T120000
DTEND;TZID=America/New_York:20231007T220000
DTSTAMP:20260423T132151
CREATED:20230928T025222Z
LAST-MODIFIED:20231005T183837Z
UID:16157-1696680000-1696716000@lonepinebrewery.com
SUMMARY:Fallfest // Jugtown Spruce Tip Ale Release and Hancock Lumber 175th Anniversary Party
DESCRIPTION:*PRE-PURCHASES ARE NOT REQUIRED TO ATTEND THIS EVENT** \n**THIS EVENT IS OPEN TO THE PUBLIC** \nBring your family and friends to the new Quarryside Beer Garden at Rock Row for an afternoon of fall-themed activities and the release of our limited JUGTOWN SPRUCE TIP ALE in celebration with Hancock Lumber’s 175th Anniversary! \n$15 includes gets you a commemorative 20oz Thumbprint Stein and your first 20oz fill of Jugtown Spruce Tip Ale. \nTime: 12pm – close \nPlace: Quarryside at Rock Row – 87 Rock Row\, Westbrook ME \nNEW RELEASE of JUGTOWN Spruce Tip Ale in collaboration with Hancock Lumber\, proceeds to benefit Maine Woodland Owners (http://mainewoodlandowners.org). \n\nAxe Throwing\nStein Hoisting\nLive Music\nCornhole\nKid’s Games\nFood and Drink\n\nPRE-PURCHASE $15 EVENT PACKAGE
URL:https://lonepinebrewery.com/events/fallfest-jugtown-spruce-tip-ale-release-and-hancock-lumber-175th-anniversary-party/
LOCATION:Lone Pine Beer Garden: Rock Row Westbrook\, 87 Rock Row\, Westbrook\, ME\, 04092\, United States
CATEGORIES:Beer Festival,Maine
ATTACH;FMTTYPE=image/jpeg:https://lonepinebrewery.com/wp-content/uploads/2023/09/HancockMugs-small.jpg
END:VEVENT
BEGIN:VEVENT
DTSTART;TZID=America/New_York:20230325T120000
DTEND;TZID=America/New_York:20230325T170000
DTSTAMP:20260423T132151
CREATED:20230319T184646Z
LAST-MODIFIED:20230319T184855Z
UID:15565-1679745600-1679763600@lonepinebrewery.com
SUMMARY:On A Roll Food Truck @ Portland Tasting Room
DESCRIPTION:
URL:https://lonepinebrewery.com/events/on-a-roll-food-truck-portland-tasting-room/
LOCATION:Lone Pine Brewing Tasting Room: Portland\, 219 Anderson St.\, Portland\, ME\, 04101\, United States
CATEGORIES:Food Truck,Maine,Portland,Tasting Room
ATTACH;FMTTYPE=image/jpeg:https://lonepinebrewery.com/wp-content/uploads/2022/10/LP-Events-OnARoll-2.jpg
END:VEVENT
BEGIN:VEVENT
DTSTART;TZID=America/New_York:20230325T120000
DTEND;TZID=America/New_York:20230325T170000
DTSTAMP:20260423T132151
CREATED:20230319T184646Z
LAST-MODIFIED:20230319T184855Z
UID:15565-1679745600-1679763600@lonepinebrewery.com
SUMMARY:On A Roll Food Truck @ Portland Tasting Room
DESCRIPTION:
URL:https://lonepinebrewery.com/events/on-a-roll-food-truck-portland-tasting-room/
LOCATION:Lone Pine Brewing Tasting Room: Portland\, 219 Anderson St.\, Portland\, ME\, 04101\, United States
CATEGORIES:Food Truck,Maine,Portland,Tasting Room
ATTACH;FMTTYPE=image/jpeg:https://lonepinebrewery.com/wp-content/uploads/2022/10/LP-Events-OnARoll-2.jpg
END:VEVENT
BEGIN:VEVENT
DTSTART;TZID=America/New_York:20230325T120000
DTEND;TZID=America/New_York:20230325T170000
DTSTAMP:20260423T132151
CREATED:20230319T184646Z
LAST-MODIFIED:20230319T184855Z
UID:15565-1679745600-1679763600@lonepinebrewery.com
SUMMARY:On A Roll Food Truck @ Portland Tasting Room
DESCRIPTION:
URL:https://lonepinebrewery.com/events/on-a-roll-food-truck-portland-tasting-room/
LOCATION:Lone Pine Brewing Tasting Room: Portland\, 219 Anderson St.\, Portland\, ME\, 04101\, United States
CATEGORIES:Food Truck,Maine,Portland,Tasting Room
ATTACH;FMTTYPE=image/jpeg:https://lonepinebrewery.com/wp-content/uploads/2022/10/LP-Events-OnARoll-2.jpg
END:VEVENT
BEGIN:VEVENT
DTSTART;TZID=America/New_York:20230325T120000
DTEND;TZID=America/New_York:20230325T170000
DTSTAMP:20260423T132151
CREATED:20230319T184646Z
LAST-MODIFIED:20230319T184855Z
UID:15565-1679745600-1679763600@lonepinebrewery.com
SUMMARY:On A Roll Food Truck @ Portland Tasting Room
DESCRIPTION:
URL:https://lonepinebrewery.com/events/on-a-roll-food-truck-portland-tasting-room/
LOCATION:Lone Pine Brewing Tasting Room: Portland\, 219 Anderson St.\, Portland\, ME\, 04101\, United States
CATEGORIES:Food Truck,Maine,Portland,Tasting Room
ATTACH;FMTTYPE=image/jpeg:https://lonepinebrewery.com/wp-content/uploads/2022/10/LP-Events-OnARoll-2.jpg
END:VEVENT
BEGIN:VEVENT
DTSTART;TZID=America/New_York:20230325T120000
DTEND;TZID=America/New_York:20230325T170000
DTSTAMP:20260423T132151
CREATED:20230319T184646Z
LAST-MODIFIED:20230319T184855Z
UID:15565-1679745600-1679763600@lonepinebrewery.com
SUMMARY:On A Roll Food Truck @ Portland Tasting Room
DESCRIPTION:
URL:https://lonepinebrewery.com/events/on-a-roll-food-truck-portland-tasting-room/
LOCATION:Lone Pine Brewing Tasting Room: Portland\, 219 Anderson St.\, Portland\, ME\, 04101\, United States
CATEGORIES:Food Truck,Maine,Portland,Tasting Room
ATTACH;FMTTYPE=image/jpeg:https://lonepinebrewery.com/wp-content/uploads/2022/10/LP-Events-OnARoll-2.jpg
END:VEVENT
BEGIN:VEVENT
DTSTART;TZID=America/New_York:20230330T170000
DTEND;TZID=America/New_York:20230330T190000
DTSTAMP:20260423T132151
CREATED:20230320T124515Z
LAST-MODIFIED:20230320T124515Z
UID:15824-1680195600-1680202800@lonepinebrewery.com
SUMMARY:Tasting @ Maine Homestead Market
DESCRIPTION:
URL:https://lonepinebrewery.com/events/tasting-maine-homestead-market/
LOCATION:Maine Homestead Market\, 1773 Alfred Rd.\, Lyman\, ME\, 04002\, United States
CATEGORIES:Beer Tasting,Maine
ATTACH;FMTTYPE=image/jpeg:https://lonepinebrewery.com/wp-content/uploads/2023/03/2023-Events-MaineHomesteadMarket-1.jpg
END:VEVENT
BEGIN:VEVENT
DTSTART;TZID=America/New_York:20230325T123000
DTEND;TZID=America/New_York:20230325T150000
DTSTAMP:20260423T132151
CREATED:20230227T173434Z
LAST-MODIFIED:20230227T200448Z
UID:14087-1679747400-1679756400@lonepinebrewery.com
SUMMARY:Tasting @ Pineland Farms
DESCRIPTION:Featuring: Maple Sunday Brown Ale
URL:https://lonepinebrewery.com/events/tasting-pineland-farms/
LOCATION:Pineland Farms\, 15 Farm View Drive\, New Gloucester\, ME\, 04260\, United States
CATEGORIES:Beer Tasting,Maine
ATTACH;FMTTYPE=image/jpeg:https://lonepinebrewery.com/wp-content/uploads/2023/02/2023-Events_0005_PinelandMapleSunday.jpg
END:VEVENT
BEGIN:VEVENT
DTSTART;TZID=America/New_York:20230325T120000
DTEND;TZID=America/New_York:20230325T170000
DTSTAMP:20260423T132151
CREATED:20230319T184646Z
LAST-MODIFIED:20230319T184855Z
UID:15565-1679745600-1679763600@lonepinebrewery.com
SUMMARY:On A Roll Food Truck @ Portland Tasting Room
DESCRIPTION:
URL:https://lonepinebrewery.com/events/on-a-roll-food-truck-portland-tasting-room/
LOCATION:Lone Pine Brewing Tasting Room: Portland\, 219 Anderson St.\, Portland\, ME\, 04101\, United States
CATEGORIES:Food Truck,Maine,Portland,Tasting Room
ATTACH;FMTTYPE=image/jpeg:https://lonepinebrewery.com/wp-content/uploads/2022/10/LP-Events-OnARoll-2.jpg
END:VEVENT
BEGIN:VEVENT
DTSTART;TZID=America/New_York:20230324T170000
DTEND;TZID=America/New_York:20230324T190000
DTSTAMP:20260423T132151
CREATED:20230320T125007Z
LAST-MODIFIED:20230320T125007Z
UID:15828-1679677200-1679684400@lonepinebrewery.com
SUMMARY:Tasting @ Maine Market (Eliot\, ME)
DESCRIPTION:
URL:https://lonepinebrewery.com/events/tasting-maine-market-eliot-me/
LOCATION:Maine Market\, 177 Moses Gerrish Farmer Road\, Eliot\, ME\, 03903\, United States
CATEGORIES:Beer Tasting,Maine
ATTACH;FMTTYPE=image/jpeg:https://lonepinebrewery.com/wp-content/uploads/2023/03/2023-Events-MaineMarket-1.jpg
END:VEVENT
BEGIN:VEVENT
DTSTART;VALUE=DATE:20230308
DTEND;VALUE=DATE:20230309
DTSTAMP:20260423T132151
CREATED:20230306T132048Z
LAST-MODIFIED:20230306T133134Z
UID:14161-1678233600-1678319999@lonepinebrewery.com
SUMMARY:Winter Carnaval ME @ J's Oyster (Portland\, ME)
DESCRIPTION:$1 off Lone Pine Drafts \nFeaturing: Portland Pale Ale + Winter Carnival White Ale
URL:https://lonepinebrewery.com/events/winter-carnaval-me-js-oyster-portland-me/
LOCATION:J’s Oyster\, 5 Portland Pier\, Portland\, ME\, 04101\, United States
CATEGORIES:Beer Festival,Maine,Portland
ATTACH;FMTTYPE=image/jpeg:https://lonepinebrewery.com/wp-content/uploads/2023/03/2023-Events_CarnavalME.jpg
END:VEVENT
BEGIN:VEVENT
DTSTART;VALUE=DATE:20230308
DTEND;VALUE=DATE:20230309
DTSTAMP:20260423T132151
CREATED:20230306T132048Z
LAST-MODIFIED:20230306T133134Z
UID:14161-1678233600-1678319999@lonepinebrewery.com
SUMMARY:Winter Carnaval ME @ J's Oyster (Portland\, ME)
DESCRIPTION:$1 off Lone Pine Drafts \nFeaturing: Portland Pale Ale + Winter Carnival White Ale
URL:https://lonepinebrewery.com/events/winter-carnaval-me-js-oyster-portland-me/
LOCATION:J’s Oyster\, 5 Portland Pier\, Portland\, ME\, 04101\, United States
CATEGORIES:Beer Festival,Maine,Portland
ATTACH;FMTTYPE=image/jpeg:https://lonepinebrewery.com/wp-content/uploads/2023/03/2023-Events_CarnavalME.jpg
END:VEVENT
BEGIN:VEVENT
DTSTART;VALUE=DATE:20230308
DTEND;VALUE=DATE:20230309
DTSTAMP:20260423T132151
CREATED:20230306T132048Z
LAST-MODIFIED:20230306T133134Z
UID:14161-1678233600-1678319999@lonepinebrewery.com
SUMMARY:Winter Carnaval ME @ J's Oyster (Portland\, ME)
DESCRIPTION:$1 off Lone Pine Drafts \nFeaturing: Portland Pale Ale + Winter Carnival White Ale
URL:https://lonepinebrewery.com/events/winter-carnaval-me-js-oyster-portland-me/
LOCATION:J’s Oyster\, 5 Portland Pier\, Portland\, ME\, 04101\, United States
CATEGORIES:Beer Festival,Maine,Portland
ATTACH;FMTTYPE=image/jpeg:https://lonepinebrewery.com/wp-content/uploads/2023/03/2023-Events_CarnavalME.jpg
END:VEVENT
BEGIN:VEVENT
DTSTART;VALUE=DATE:20230308
DTEND;VALUE=DATE:20230309
DTSTAMP:20260423T132151
CREATED:20230306T132048Z
LAST-MODIFIED:20230306T133134Z
UID:14161-1678233600-1678319999@lonepinebrewery.com
SUMMARY:Winter Carnaval ME @ J's Oyster (Portland\, ME)
DESCRIPTION:$1 off Lone Pine Drafts \nFeaturing: Portland Pale Ale + Winter Carnival White Ale
URL:https://lonepinebrewery.com/events/winter-carnaval-me-js-oyster-portland-me/
LOCATION:J’s Oyster\, 5 Portland Pier\, Portland\, ME\, 04101\, United States
CATEGORIES:Beer Festival,Maine,Portland
ATTACH;FMTTYPE=image/jpeg:https://lonepinebrewery.com/wp-content/uploads/2023/03/2023-Events_CarnavalME.jpg
END:VEVENT
BEGIN:VEVENT
DTSTART;VALUE=DATE:20230308
DTEND;VALUE=DATE:20230309
DTSTAMP:20260423T132151
CREATED:20230306T132048Z
LAST-MODIFIED:20230306T133134Z
UID:14161-1678233600-1678319999@lonepinebrewery.com
SUMMARY:Winter Carnaval ME @ J's Oyster (Portland\, ME)
DESCRIPTION:$1 off Lone Pine Drafts \nFeaturing: Portland Pale Ale + Winter Carnival White Ale
URL:https://lonepinebrewery.com/events/winter-carnaval-me-js-oyster-portland-me/
LOCATION:J’s Oyster\, 5 Portland Pier\, Portland\, ME\, 04101\, United States
CATEGORIES:Beer Festival,Maine,Portland
ATTACH;FMTTYPE=image/jpeg:https://lonepinebrewery.com/wp-content/uploads/2023/03/2023-Events_CarnavalME.jpg
END:VEVENT
BEGIN:VEVENT
DTSTART;TZID=America/New_York:20230302T160000
DTEND;TZID=America/New_York:20230302T180000
DTSTAMP:20260423T132151
CREATED:20230130T162943Z
LAST-MODIFIED:20230227T170013Z
UID:13209-1677772800-1677780000@lonepinebrewery.com
SUMMARY:Tasting @ Roopers Beverage & Redemption
DESCRIPTION:Featuring: Irish Stout\, Winter Carnival\, and Variety Packs
URL:https://lonepinebrewery.com/events/tasting-roopers-beverage-redemption/
LOCATION:Rooper’s Beverage: Lewiston Main Street\, 686 Main St.\, Lewiston\, ME\, 04240\, United States
CATEGORIES:Beer Tasting,Maine
ATTACH;FMTTYPE=image/jpeg:https://lonepinebrewery.com/wp-content/uploads/2022/07/LP-Events-Roopers-1.jpg
END:VEVENT
BEGIN:VEVENT
DTSTART;TZID=America/New_York:20230221T170000
DTEND;TZID=America/New_York:20230221T200000
DTSTAMP:20260423T132151
CREATED:20230130T164821Z
LAST-MODIFIED:20230130T164821Z
UID:13226-1676998800-1677009600@lonepinebrewery.com
SUMMARY:Tap Takeover @ Loco Cocos Tacos
DESCRIPTION:
URL:https://lonepinebrewery.com/events/tap-takeover-loco-cocos-tacos/
LOCATION:Loco Cocos Tacos\, 36 Walker St.\, Kittery\, ME\, 03904\, United States
CATEGORIES:Maine,Tap Takeover
ATTACH;FMTTYPE=image/jpeg:https://lonepinebrewery.com/wp-content/uploads/2023/01/2023-Events_0005_LocoCocos.jpg
END:VEVENT
BEGIN:VEVENT
DTSTART;TZID=America/New_York:20230218T120000
DTEND;TZID=America/New_York:20230218T180000
DTSTAMP:20260423T132151
CREATED:20230123T215202Z
LAST-MODIFIED:20230123T215256Z
UID:13123-1676721600-1676743200@lonepinebrewery.com
SUMMARY:Winter Carnival Ice Bar
DESCRIPTION:Featured Beer:\n\nWinter Carnival White Ale\nAllen’s Coffee Breakfast Stout\nBrightside IPA
URL:https://lonepinebrewery.com/events/winter-carnival-ice-bar/
LOCATION:Campfire Grille\, 518 Portland Rd.\, Bridgton\, ME\, 04009\, United States
CATEGORIES:Beer Festival,Maine
ATTACH;FMTTYPE=image/jpeg:https://lonepinebrewery.com/wp-content/uploads/2023/01/2023-Events_0010_CampfireGrill-WinterCarnival.jpg
END:VEVENT
BEGIN:VEVENT
DTSTART;TZID=America/New_York:20230212T150000
DTEND;TZID=America/New_York:20230212T230000
DTSTAMP:20260423T132151
CREATED:20230203T195648Z
LAST-MODIFIED:20230203T195648Z
UID:13302-1676214000-1676242800@lonepinebrewery.com
SUMMARY:Super Bowl Party @ Crew
DESCRIPTION:
URL:https://lonepinebrewery.com/events/super-bowl-party-crew/
LOCATION:Crew Ogunquit\, 8 Shore Road\, Ogunquit\, ME\, 03907\, United States
CATEGORIES:Maine,Tap Takeover
ATTACH;FMTTYPE=image/jpeg:https://lonepinebrewery.com/wp-content/uploads/2023/02/326094056_642398290972467_5107035850627333515_n.jpg
END:VEVENT
END:VCALENDAR