BEGIN:VCALENDAR
VERSION:2.0
PRODID:-//Lone Pine Brewing Company - ECPv6.3.7//NONSGML v1.0//EN
CALSCALE:GREGORIAN
METHOD:PUBLISH
X-ORIGINAL-URL:https://lonepinebrewery.com
X-WR-CALDESC:Events for Lone Pine Brewing Company
REFRESH-INTERVAL;VALUE=DURATION:PT1H
X-Robots-Tag:noindex
X-PUBLISHED-TTL:PT1H
BEGIN:VTIMEZONE
TZID:America/New_York
BEGIN:DAYLIGHT
TZOFFSETFROM:-0500
TZOFFSETTO:-0400
TZNAME:EDT
DTSTART:20220313T070000
END:DAYLIGHT
BEGIN:STANDARD
TZOFFSETFROM:-0400
TZOFFSETTO:-0500
TZNAME:EST
DTSTART:20221106T060000
END:STANDARD
END:VTIMEZONE
BEGIN:VEVENT
DTSTART;TZID=America/New_York:20220909T150000
DTEND;TZID=America/New_York:20220909T180000
DTSTAMP:20260423T182326
CREATED:20220908T172555Z
LAST-MODIFIED:20220908T173414Z
UID:11026-1662735600-1662746400@lonepinebrewery.com
SUMMARY:Pumpkin Party Tasting @ Rooper's Beverage (Lisbon St.) Lewiston
DESCRIPTION:
URL:https://lonepinebrewery.com/events/pumpkin-party-tasting-roopers-beverage-lisbon-st-lewiston/
LOCATION:Rooper’s Beverage: Lewiston Lisbon Street\, 1420 Lisbon Street\, Lewiston\, ME\, 04240\, United States
CATEGORIES:Beer Tasting,Maine
ATTACH;FMTTYPE=image/jpeg:https://lonepinebrewery.com/wp-content/uploads/2022/08/LP-Events-PumpkinParty-Roopers-1.jpg
END:VEVENT
BEGIN:VEVENT
DTSTART;TZID=America/New_York:20220908T180000
DTEND;TZID=America/New_York:20220908T190000
DTSTAMP:20260423T182326
CREATED:20220908T173534Z
LAST-MODIFIED:20220908T173534Z
UID:11035-1662660000-1662663600@lonepinebrewery.com
SUMMARY:Pumpkin Party Tasting at Portland Pie Co (Bangor)
DESCRIPTION:
URL:https://lonepinebrewery.com/events/pumpkin-party-tasting-at-portland-pie-co-bangor/
LOCATION:Portland Pie Company: Bangor\, 91 Main St.\, Bangor\, ME\, 04401\, United States
CATEGORIES:Beer Tasting,Maine
ATTACH;FMTTYPE=image/jpeg:https://lonepinebrewery.com/wp-content/uploads/2022/09/LP-Events-PortlandPieCo-PumpkinParty-1.jpg
END:VEVENT
BEGIN:VEVENT
DTSTART;TZID=America/New_York:20220730T140000
DTEND;TZID=America/New_York:20220730T173000
DTSTAMP:20260423T182326
CREATED:20220727T102350Z
LAST-MODIFIED:20220729T180854Z
UID:9704-1659189600-1659202200@lonepinebrewery.com
SUMMARY:Summer Concert Series
DESCRIPTION:
URL:https://lonepinebrewery.com/events/summer-concert-series/
LOCATION:Lone Pine Brewing Tasting Room: Gorham\, 48 Sanford Dr.\, Gorham\, ME\, 04038\, United States
CATEGORIES:ALL,Gorham,Maine,Tasting Room
ATTACH;FMTTYPE=image/jpeg:https://lonepinebrewery.com/wp-content/uploads/2022/07/LP-Events-SummerConcertSeries-1.jpg
END:VEVENT
BEGIN:VEVENT
DTSTART;TZID=America/New_York:20220730T140000
DTEND;TZID=America/New_York:20220730T173000
DTSTAMP:20260423T182326
CREATED:20220727T102350Z
LAST-MODIFIED:20220729T180854Z
UID:9704-1659189600-1659202200@lonepinebrewery.com
SUMMARY:Summer Concert Series
DESCRIPTION:
URL:https://lonepinebrewery.com/events/summer-concert-series/
LOCATION:Lone Pine Brewing Tasting Room: Gorham\, 48 Sanford Dr.\, Gorham\, ME\, 04038\, United States
CATEGORIES:ALL,Gorham,Maine,Tasting Room
ATTACH;FMTTYPE=image/jpeg:https://lonepinebrewery.com/wp-content/uploads/2022/07/LP-Events-SummerConcertSeries-1.jpg
END:VEVENT
BEGIN:VEVENT
DTSTART;TZID=America/New_York:20220730T140000
DTEND;TZID=America/New_York:20220730T173000
DTSTAMP:20260423T182326
CREATED:20220727T102350Z
LAST-MODIFIED:20220729T180854Z
UID:9704-1659189600-1659202200@lonepinebrewery.com
SUMMARY:Summer Concert Series
DESCRIPTION:
URL:https://lonepinebrewery.com/events/summer-concert-series/
LOCATION:Lone Pine Brewing Tasting Room: Gorham\, 48 Sanford Dr.\, Gorham\, ME\, 04038\, United States
CATEGORIES:ALL,Gorham,Maine,Tasting Room
ATTACH;FMTTYPE=image/jpeg:https://lonepinebrewery.com/wp-content/uploads/2022/07/LP-Events-SummerConcertSeries-1.jpg
END:VEVENT
BEGIN:VEVENT
DTSTART;TZID=America/New_York:20220730T140000
DTEND;TZID=America/New_York:20220730T173000
DTSTAMP:20260423T182326
CREATED:20220727T102350Z
LAST-MODIFIED:20220729T180854Z
UID:9704-1659189600-1659202200@lonepinebrewery.com
SUMMARY:Summer Concert Series
DESCRIPTION:
URL:https://lonepinebrewery.com/events/summer-concert-series/
LOCATION:Lone Pine Brewing Tasting Room: Gorham\, 48 Sanford Dr.\, Gorham\, ME\, 04038\, United States
CATEGORIES:ALL,Gorham,Maine,Tasting Room
ATTACH;FMTTYPE=image/jpeg:https://lonepinebrewery.com/wp-content/uploads/2022/07/LP-Events-SummerConcertSeries-1.jpg
END:VEVENT
BEGIN:VEVENT
DTSTART;TZID=America/New_York:20220812T180000
DTEND;TZID=America/New_York:20220812T210000
DTSTAMP:20260423T182326
CREATED:20220727T130640Z
LAST-MODIFIED:20220727T131014Z
UID:9893-1660327200-1660338000@lonepinebrewery.com
SUMMARY:GRAZE with Pineland Farms & The Black Tie Company
DESCRIPTION:
URL:https://lonepinebrewery.com/events/graze-pineland-farms/
LOCATION:Pineland Farms\, 15 Farm View Drive\, New Gloucester\, ME\, 04260\, United States
CATEGORIES:ALL,Maine
ATTACH;FMTTYPE=image/jpeg:https://lonepinebrewery.com/wp-content/uploads/2022/07/LP-Events-GRAZE-1.jpg
END:VEVENT
BEGIN:VEVENT
DTSTART;TZID=America/New_York:20220811T180000
DTEND;TZID=America/New_York:20220811T190000
DTSTAMP:20260423T182326
CREATED:20220727T111040Z
LAST-MODIFIED:20220728T122616Z
UID:9839-1660240800-1660244400@lonepinebrewery.com
SUMMARY:Pint Night @ Buffalo Wild Wings (Auburn)
DESCRIPTION:
URL:https://lonepinebrewery.com/events/pint-night-at-buffalo-wild-wings-bangor-2/
LOCATION:Buffalo Wild Wings: Auburn\, 648 Turner St.\, Auburn\, ME\, 04210\, United States
CATEGORIES:ALL,Maine
ATTACH;FMTTYPE=image/jpeg:https://lonepinebrewery.com/wp-content/uploads/2022/07/BWW-1.jpg
END:VEVENT
BEGIN:VEVENT
DTSTART;TZID=America/New_York:20220730T140000
DTEND;TZID=America/New_York:20220730T173000
DTSTAMP:20260423T182326
CREATED:20220727T102350Z
LAST-MODIFIED:20220729T180854Z
UID:9704-1659189600-1659202200@lonepinebrewery.com
SUMMARY:Summer Concert Series
DESCRIPTION:
URL:https://lonepinebrewery.com/events/summer-concert-series/
LOCATION:Lone Pine Brewing Tasting Room: Gorham\, 48 Sanford Dr.\, Gorham\, ME\, 04038\, United States
CATEGORIES:ALL,Gorham,Maine,Tasting Room
ATTACH;FMTTYPE=image/jpeg:https://lonepinebrewery.com/wp-content/uploads/2022/07/LP-Events-SummerConcertSeries-1.jpg
END:VEVENT
BEGIN:VEVENT
DTSTART;TZID=America/New_York:20220805T170000
DTEND;TZID=America/New_York:20220805T190000
DTSTAMP:20260423T182326
CREATED:20220727T110812Z
LAST-MODIFIED:20220728T122620Z
UID:9834-1659718800-1659726000@lonepinebrewery.com
SUMMARY:Pint Night @ Buffalo Wild Wings (Bangor)
DESCRIPTION:
URL:https://lonepinebrewery.com/events/pint-night-at-buffalo-wild-wings-bangor/
LOCATION:Buffalo Wild Wings: Bangor\, 461 Stillwater Ave\, Bangor\, ME\, 04401\, United States
CATEGORIES:ALL,Maine
ATTACH;FMTTYPE=image/jpeg:https://lonepinebrewery.com/wp-content/uploads/2022/07/BWW-1.jpg
END:VEVENT
BEGIN:VEVENT
DTSTART;TZID=America/New_York:20220804T160000
DTEND;TZID=America/New_York:20220804T210000
DTSTAMP:20260423T182326
CREATED:20220727T110046Z
LAST-MODIFIED:20220727T110327Z
UID:9827-1659628800-1659646800@lonepinebrewery.com
SUMMARY:National IPA Day with Lost Valley Brewing
DESCRIPTION:
URL:https://lonepinebrewery.com/events/national-ipa-day-with-lost-valley-brewing/
LOCATION:Lost Valley Ski Area
CATEGORIES:ALL,Maine
ATTACH;FMTTYPE=image/jpeg:https://lonepinebrewery.com/wp-content/uploads/2022/07/LV.jpg
END:VEVENT
BEGIN:VEVENT
DTSTART;TZID=America/New_York:20220730T140000
DTEND;TZID=America/New_York:20220730T173000
DTSTAMP:20260423T182326
CREATED:20220727T102350Z
LAST-MODIFIED:20220729T180854Z
UID:9704-1659189600-1659202200@lonepinebrewery.com
SUMMARY:Summer Concert Series
DESCRIPTION:
URL:https://lonepinebrewery.com/events/summer-concert-series/
LOCATION:Lone Pine Brewing Tasting Room: Gorham\, 48 Sanford Dr.\, Gorham\, ME\, 04038\, United States
CATEGORIES:ALL,Gorham,Maine,Tasting Room
ATTACH;FMTTYPE=image/jpeg:https://lonepinebrewery.com/wp-content/uploads/2022/07/LP-Events-SummerConcertSeries-1.jpg
END:VEVENT
END:VCALENDAR