BEGIN:VCALENDAR
VERSION:2.0
PRODID:-//Lone Pine Brewing Company - ECPv6.3.7//NONSGML v1.0//EN
CALSCALE:GREGORIAN
METHOD:PUBLISH
X-ORIGINAL-URL:https://lonepinebrewery.com
X-WR-CALDESC:Events for Lone Pine Brewing Company
REFRESH-INTERVAL;VALUE=DURATION:PT1H
X-Robots-Tag:noindex
X-PUBLISHED-TTL:PT1H
BEGIN:VTIMEZONE
TZID:America/New_York
BEGIN:DAYLIGHT
TZOFFSETFROM:-0500
TZOFFSETTO:-0400
TZNAME:EDT
DTSTART:20220313T070000
END:DAYLIGHT
BEGIN:STANDARD
TZOFFSETFROM:-0400
TZOFFSETTO:-0500
TZNAME:EST
DTSTART:20221106T060000
END:STANDARD
END:VTIMEZONE
BEGIN:VEVENT
DTSTART;TZID=America/New_York:20221203T120000
DTEND;TZID=America/New_York:20221203T200000
DTSTAMP:20260424T225726
CREATED:20221121T145751Z
LAST-MODIFIED:20221121T145751Z
UID:12436-1670068800-1670097600@lonepinebrewery.com
SUMMARY:WINTER CARNIVAL
DESCRIPTION:
URL:https://lonepinebrewery.com/events/winter-carnival/
LOCATION:Lone Pine Brewing Tasting Room: Gorham\, 48 Sanford Dr.\, Gorham\, ME\, 04038\, United States
CATEGORIES:Gorham,Maine,Tasting Room
ATTACH;FMTTYPE=image/jpeg:https://lonepinebrewery.com/wp-content/uploads/2022/11/WinterCarnival-Website.jpg
END:VEVENT
END:VCALENDAR