BEGIN:VCALENDAR
VERSION:2.0
PRODID:-//Lone Pine Brewing Company - ECPv6.3.7//NONSGML v1.0//EN
CALSCALE:GREGORIAN
METHOD:PUBLISH
X-WR-CALNAME:Lone Pine Brewing Company
X-ORIGINAL-URL:https://lonepinebrewery.com
X-WR-CALDESC:Events for Lone Pine Brewing Company
REFRESH-INTERVAL;VALUE=DURATION:PT1H
X-Robots-Tag:noindex
X-PUBLISHED-TTL:PT1H
BEGIN:VTIMEZONE
TZID:America/New_York
BEGIN:DAYLIGHT
TZOFFSETFROM:-0500
TZOFFSETTO:-0400
TZNAME:EDT
DTSTART:20230312T070000
END:DAYLIGHT
BEGIN:STANDARD
TZOFFSETFROM:-0400
TZOFFSETTO:-0500
TZNAME:EST
DTSTART:20231105T060000
END:STANDARD
END:VTIMEZONE
BEGIN:VEVENT
DTSTART;TZID=America/New_York:20230128T170000
DTEND;TZID=America/New_York:20230128T190000
DTSTAMP:20260424T202940
CREATED:20230124T130941Z
LAST-MODIFIED:20230124T130941Z
UID:13148-1674925200-1674932400@lonepinebrewery.com
SUMMARY:An Evening of FREE COMEDY with Ian Stuart
DESCRIPTION:
URL:https://lonepinebrewery.com/events/an-evening-of-free-comedy-with-ian-stuart/
LOCATION:Lone Pine Brewing Tasting Room: Gorham\, 48 Sanford Dr.\, Gorham\, ME\, 04038\, United States
CATEGORIES:Comedy Show,Gorham,Maine,Tasting Room
ATTACH;FMTTYPE=image/jpeg:https://lonepinebrewery.com/wp-content/uploads/2023/01/2023-Events_0005_Comedy.jpg
END:VEVENT
END:VCALENDAR