BEGIN:VCALENDAR
VERSION:2.0
PRODID:-//Lone Pine Brewing Company - ECPv6.3.7//NONSGML v1.0//EN
CALSCALE:GREGORIAN
METHOD:PUBLISH
X-WR-CALNAME:Lone Pine Brewing Company
X-ORIGINAL-URL:https://lonepinebrewery.com
X-WR-CALDESC:Events for Lone Pine Brewing Company
REFRESH-INTERVAL;VALUE=DURATION:PT1H
X-Robots-Tag:noindex
X-PUBLISHED-TTL:PT1H
BEGIN:VTIMEZONE
TZID:America/New_York
BEGIN:DAYLIGHT
TZOFFSETFROM:-0500
TZOFFSETTO:-0400
TZNAME:EDT
DTSTART:20230312T070000
END:DAYLIGHT
BEGIN:STANDARD
TZOFFSETFROM:-0400
TZOFFSETTO:-0500
TZNAME:EST
DTSTART:20231105T060000
END:STANDARD
END:VTIMEZONE
BEGIN:VEVENT
DTSTART;TZID=America/New_York:20230325T120000
DTEND;TZID=America/New_York:20230325T170000
DTSTAMP:20260423T130614
CREATED:20230319T184646Z
LAST-MODIFIED:20230319T184855Z
UID:15565-1679745600-1679763600@lonepinebrewery.com
SUMMARY:On A Roll Food Truck @ Portland Tasting Room
DESCRIPTION:
URL:https://lonepinebrewery.com/events/on-a-roll-food-truck-portland-tasting-room/
LOCATION:Lone Pine Brewing Tasting Room: Portland\, 219 Anderson St.\, Portland\, ME\, 04101\, United States
CATEGORIES:Food Truck,Maine,Portland,Tasting Room
ATTACH;FMTTYPE=image/jpeg:https://lonepinebrewery.com/wp-content/uploads/2022/10/LP-Events-OnARoll-2.jpg
END:VEVENT
BEGIN:VEVENT
DTSTART;TZID=America/New_York:20230404T170000
DTEND;TZID=America/New_York:20230404T210000
DTSTAMP:20260423T130614
CREATED:20230124T133536Z
LAST-MODIFIED:20230130T163351Z
UID:13174-1680627600-1680642000@lonepinebrewery.com
SUMMARY:Lone Pine Dinner @ Trinktisch
DESCRIPTION:
URL:https://lonepinebrewery.com/events/lone-pine-dinner-trinktisch-belmont/
LOCATION:Trinktisch\, 87 Leonard St.\, Belmont\, MA\, 02478\, United States
CATEGORIES:Beer Dinner,Massachusetts
ATTACH;FMTTYPE=image/jpeg:https://lonepinebrewery.com/wp-content/uploads/2023/01/2023-Events_0019_Trinktisch.jpg
END:VEVENT
BEGIN:VEVENT
DTSTART;TZID=America/New_York:20230325T120000
DTEND;TZID=America/New_York:20230325T170000
DTSTAMP:20260423T130614
CREATED:20230319T184646Z
LAST-MODIFIED:20230319T184855Z
UID:15565-1679745600-1679763600@lonepinebrewery.com
SUMMARY:On A Roll Food Truck @ Portland Tasting Room
DESCRIPTION:
URL:https://lonepinebrewery.com/events/on-a-roll-food-truck-portland-tasting-room/
LOCATION:Lone Pine Brewing Tasting Room: Portland\, 219 Anderson St.\, Portland\, ME\, 04101\, United States
CATEGORIES:Food Truck,Maine,Portland,Tasting Room
ATTACH;FMTTYPE=image/jpeg:https://lonepinebrewery.com/wp-content/uploads/2022/10/LP-Events-OnARoll-2.jpg
END:VEVENT
BEGIN:VEVENT
DTSTART;TZID=America/New_York:20230325T120000
DTEND;TZID=America/New_York:20230325T170000
DTSTAMP:20260423T130614
CREATED:20230319T184646Z
LAST-MODIFIED:20230319T184855Z
UID:15565-1679745600-1679763600@lonepinebrewery.com
SUMMARY:On A Roll Food Truck @ Portland Tasting Room
DESCRIPTION:
URL:https://lonepinebrewery.com/events/on-a-roll-food-truck-portland-tasting-room/
LOCATION:Lone Pine Brewing Tasting Room: Portland\, 219 Anderson St.\, Portland\, ME\, 04101\, United States
CATEGORIES:Food Truck,Maine,Portland,Tasting Room
ATTACH;FMTTYPE=image/jpeg:https://lonepinebrewery.com/wp-content/uploads/2022/10/LP-Events-OnARoll-2.jpg
END:VEVENT
BEGIN:VEVENT
DTSTART;TZID=America/New_York:20230421T160000
DTEND;TZID=America/New_York:20230421T180000
DTSTAMP:20260423T130614
CREATED:20230320T124205Z
LAST-MODIFIED:20230320T124205Z
UID:15821-1682092800-1682100000@lonepinebrewery.com
SUMMARY:Tasting @ Charles Street Liquors (Boston)
DESCRIPTION:
URL:https://lonepinebrewery.com/events/tasting-charles-street-liquors-boston-2/
LOCATION:Charles Street Liquors\, 143 Charles Street\, Boston\, MA\, 02114\, United States
CATEGORIES:Beer Tasting,Massachusetts
ATTACH;FMTTYPE=image/jpeg:https://lonepinebrewery.com/wp-content/uploads/2023/03/2023-Events_0005_CharlesStreetLiquors.jpg
END:VEVENT
BEGIN:VEVENT
DTSTART;TZID=America/New_York:20230325T120000
DTEND;TZID=America/New_York:20230325T170000
DTSTAMP:20260423T130614
CREATED:20230319T184646Z
LAST-MODIFIED:20230319T184855Z
UID:15565-1679745600-1679763600@lonepinebrewery.com
SUMMARY:On A Roll Food Truck @ Portland Tasting Room
DESCRIPTION:
URL:https://lonepinebrewery.com/events/on-a-roll-food-truck-portland-tasting-room/
LOCATION:Lone Pine Brewing Tasting Room: Portland\, 219 Anderson St.\, Portland\, ME\, 04101\, United States
CATEGORIES:Food Truck,Maine,Portland,Tasting Room
ATTACH;FMTTYPE=image/jpeg:https://lonepinebrewery.com/wp-content/uploads/2022/10/LP-Events-OnARoll-2.jpg
END:VEVENT
BEGIN:VEVENT
DTSTART;TZID=America/New_York:20230325T120000
DTEND;TZID=America/New_York:20230325T170000
DTSTAMP:20260423T130614
CREATED:20230319T184646Z
LAST-MODIFIED:20230319T184855Z
UID:15565-1679745600-1679763600@lonepinebrewery.com
SUMMARY:On A Roll Food Truck @ Portland Tasting Room
DESCRIPTION:
URL:https://lonepinebrewery.com/events/on-a-roll-food-truck-portland-tasting-room/
LOCATION:Lone Pine Brewing Tasting Room: Portland\, 219 Anderson St.\, Portland\, ME\, 04101\, United States
CATEGORIES:Food Truck,Maine,Portland,Tasting Room
ATTACH;FMTTYPE=image/jpeg:https://lonepinebrewery.com/wp-content/uploads/2022/10/LP-Events-OnARoll-2.jpg
END:VEVENT
END:VCALENDAR