BEGIN:VCALENDAR
VERSION:2.0
PRODID:-//Lone Pine Brewing Company - ECPv6.3.7//NONSGML v1.0//EN
CALSCALE:GREGORIAN
METHOD:PUBLISH
X-ORIGINAL-URL:https://lonepinebrewery.com
X-WR-CALDESC:Events for Lone Pine Brewing Company
REFRESH-INTERVAL;VALUE=DURATION:PT1H
X-Robots-Tag:noindex
X-PUBLISHED-TTL:PT1H
BEGIN:VTIMEZONE
TZID:America/New_York
BEGIN:DAYLIGHT
TZOFFSETFROM:-0500
TZOFFSETTO:-0400
TZNAME:EDT
DTSTART:20230312T070000
END:DAYLIGHT
BEGIN:STANDARD
TZOFFSETFROM:-0400
TZOFFSETTO:-0500
TZNAME:EST
DTSTART:20231105T060000
END:STANDARD
END:VTIMEZONE
BEGIN:VEVENT
DTSTART;TZID=America/New_York:20231007T120000
DTEND;TZID=America/New_York:20231007T220000
DTSTAMP:20260423T035224
CREATED:20230928T025222Z
LAST-MODIFIED:20231005T183837Z
UID:16157-1696680000-1696716000@lonepinebrewery.com
SUMMARY:Fallfest // Jugtown Spruce Tip Ale Release and Hancock Lumber 175th Anniversary Party
DESCRIPTION:*PRE-PURCHASES ARE NOT REQUIRED TO ATTEND THIS EVENT** \n**THIS EVENT IS OPEN TO THE PUBLIC** \nBring your family and friends to the new Quarryside Beer Garden at Rock Row for an afternoon of fall-themed activities and the release of our limited JUGTOWN SPRUCE TIP ALE in celebration with Hancock Lumber’s 175th Anniversary! \n$15 includes gets you a commemorative 20oz Thumbprint Stein and your first 20oz fill of Jugtown Spruce Tip Ale. \nTime: 12pm – close \nPlace: Quarryside at Rock Row – 87 Rock Row\, Westbrook ME \nNEW RELEASE of JUGTOWN Spruce Tip Ale in collaboration with Hancock Lumber\, proceeds to benefit Maine Woodland Owners (http://mainewoodlandowners.org). \n\nAxe Throwing\nStein Hoisting\nLive Music\nCornhole\nKid’s Games\nFood and Drink\n\nPRE-PURCHASE $15 EVENT PACKAGE
URL:https://lonepinebrewery.com/events/fallfest-jugtown-spruce-tip-ale-release-and-hancock-lumber-175th-anniversary-party/
LOCATION:Lone Pine Beer Garden: Rock Row Westbrook\, 87 Rock Row\, Westbrook\, ME\, 04092\, United States
CATEGORIES:Beer Festival,Maine
ATTACH;FMTTYPE=image/jpeg:https://lonepinebrewery.com/wp-content/uploads/2023/09/HancockMugs-small.jpg
END:VEVENT
END:VCALENDAR